BEGIN:VCALENDAR
VERSION:2.0
PRODID:-//Modena Baseball Softball Club - ECPv6.15.20//NONSGML v1.0//EN
CALSCALE:GREGORIAN
METHOD:PUBLISH
X-ORIGINAL-URL:https://www.modenabaseball.it
X-WR-CALDESC:Eventi per Modena Baseball Softball Club
REFRESH-INTERVAL;VALUE=DURATION:PT1H
X-Robots-Tag:noindex
X-PUBLISHED-TTL:PT1H
BEGIN:VTIMEZONE
TZID:UTC
BEGIN:STANDARD
TZOFFSETFROM:+0000
TZOFFSETTO:+0000
TZNAME:UTC
DTSTART:20250101T000000
END:STANDARD
END:VTIMEZONE
BEGIN:VEVENT
DTSTART;VALUE=DATE:20260418
DTEND;VALUE=DATE:20260419
DTSTAMP:20260422T053904
CREATED:20260129T104148Z
LAST-MODIFIED:20260325T141333Z
UID:252700-1776470400-1776556799@www.modenabaseball.it
SUMMARY:MODENA vs CABS SEVESO
DESCRIPTION:SABATO 18 APRILE 2026: Prima partita inizio ore 15:00 – Seconda partita inizio ore 20:00 – STADIO COMUNALE TORRI – Via Minutara\, 24 – Modena (MO) \nRegular season – Serie A (Girone A – SILVER) – Campionato nazionale Baseball 2026 –Ogni squadra disputa un calendario di incontri andata e ritorno all’interno del proprio girone. \nLe date precise delle giornate e gli incroci tra squadre sono definiti dalla FIBS e disponibili nella sezione calendario del campionato\, con partite programmate prevalentemente nei weekend. \n   
URL:https://www.modenabaseball.it/event/modena-vs-cabs-seveso/
LOCATION:Stadio Comunale G. Torri\, Via Minutara\, 24\, Modena\, MO\, 41122\, Italy
CATEGORIES:Serie A
ATTACH;FMTTYPE=image/jpeg:https://www.modenabaseball.it/wp-content/uploads/2026/01/MO-vs-CS_serie-A-1.jpg
END:VEVENT
BEGIN:VEVENT
DTSTART;VALUE=DATE:20260412
DTEND;VALUE=DATE:20260413
DTSTAMP:20260422T053904
CREATED:20260127T143420Z
LAST-MODIFIED:20260325T141755Z
UID:252634-1775952000-1776038399@www.modenabaseball.it
SUMMARY:SALA BAGANZA vs MODENA
DESCRIPTION:D️OMENICA 12 APRILE 2026: Prima partita inizio ore 11:00 – Seconda partita inizio ore 15:00 –STADIO A.S.D. SALA BAGANZA – Via Di Vittorio\, 15 – Sala Baganza (PR) \nRegular season – Serie A (Girone A – SILVER) – Campionato nazionale Baseball 2026 –Ogni squadra disputa un calendario di incontri andata e ritorno all’interno del proprio girone. \nLe date precise delle giornate e gli incroci tra squadre sono definiti dalla FIBS e disponibili nella sezione calendario del campionato\, con partite programmate prevalentemente nei weekend. \n      
URL:https://www.modenabaseball.it/event/sala-baganza-vs-modena/
LOCATION:Stadio A.S.D. Sala Baganza\, Via Di Vittorio\, 15\, Sala Baganza\, PR\, 43038\, Italy
CATEGORIES:Serie A
ATTACH;FMTTYPE=image/jpeg:https://www.modenabaseball.it/wp-content/uploads/2026/01/SB-vs-MO_serie-A-1.jpg
END:VEVENT
BEGIN:VEVENT
DTSTART;VALUE=DATE:20260404
DTEND;VALUE=DATE:20260405
DTSTAMP:20260422T053904
CREATED:20260128T153236Z
LAST-MODIFIED:20260325T133252Z
UID:252675-1775260800-1775347199@www.modenabaseball.it
SUMMARY:MODENA vs ATHLETICS BOLOGNA
DESCRIPTION:SABATO 04 APRILE 2026: Prima partita inizio ore 15:00 – Seconda partita inizio ore 20:00 – STADIO COMUNALE TORRI – Via Minutara\, 24 – Modena (MO) \nRegular season – Serie A (Girone A – SILVER) – Campionato nazionale Baseball 2026 –Ogni squadra disputa un calendario di incontri andata e ritorno all’interno del proprio girone. \nLe date precise delle giornate e gli incroci tra squadre sono definiti dalla FIBS e disponibili nella sezione calendario del campionato\, con partite programmate prevalentemente nei weekend.
URL:https://www.modenabaseball.it/event/modena-vs-athletics-bologna/
LOCATION:Stadio Comunale G. Torri\, Via Minutara\, 24\, Modena\, MO\, 41122\, Italy
CATEGORIES:Serie A
ATTACH;FMTTYPE=image/jpeg:https://www.modenabaseball.it/wp-content/uploads/2026/01/MO-vs-AT_serie-A-1.jpg
END:VEVENT
END:VCALENDAR