BEGIN:VCALENDAR
VERSION:2.0
PRODID:-//Modena Baseball Softball Club - ECPv6.15.20//NONSGML v1.0//EN
CALSCALE:GREGORIAN
METHOD:PUBLISH
X-WR-CALNAME:Modena Baseball Softball Club
X-ORIGINAL-URL:https://www.modenabaseball.it
X-WR-CALDESC:Eventi per Modena Baseball Softball Club
REFRESH-INTERVAL;VALUE=DURATION:PT1H
X-Robots-Tag:noindex
X-PUBLISHED-TTL:PT1H
BEGIN:VTIMEZONE
TZID:UTC
BEGIN:STANDARD
TZOFFSETFROM:+0000
TZOFFSETTO:+0000
TZNAME:UTC
DTSTART:20250101T000000
END:STANDARD
END:VTIMEZONE
BEGIN:VEVENT
DTSTART;VALUE=DATE:20260628
DTEND;VALUE=DATE:20260629
DTSTAMP:20260422T093726
CREATED:20260129T084457Z
LAST-MODIFIED:20260325T162624Z
UID:252688-1782604800-1782691199@www.modenabaseball.it
SUMMARY:ATHLETICS BOLOGNA vs MODENA
DESCRIPTION:DOMENICA 28 GIUGNO 2026: Prima partita inizio ore 11:00 – Seconda partita inizio ore 15:00 –STADIO DEL PILASTRO – Via Luigi Pirandello\, 19 – Bologna (BO) \nRegular season – Serie A (Girone A – SILVER) – Campionato nazionale Baseball 2026 –Ogni squadra disputa un calendario di incontri andata e ritorno all’interno del proprio girone. \nLe date precise delle giornate e gli incroci tra squadre sono definiti dalla FIBS e disponibili nella sezione calendario del campionato\, con partite programmate prevalentemente nei weekend.
URL:https://www.modenabaseball.it/event/athletics-bologna-vs-modena-3/
LOCATION:Campo Baseball Pilastro\, Via Luigi Pirandello\, 6\, Bologna\, BO\, 40127\, Italy
CATEGORIES:Serie A
ATTACH;FMTTYPE=image/jpeg:https://www.modenabaseball.it/wp-content/uploads/2026/01/AT-vs-MO_serie-A-2026.jpg
END:VEVENT
END:VCALENDAR