BEGIN:VCALENDAR
VERSION:2.0
PRODID:-//Modena Baseball Softball Club - ECPv6.15.20//NONSGML v1.0//EN
CALSCALE:GREGORIAN
METHOD:PUBLISH
X-ORIGINAL-URL:https://www.modenabaseball.it
X-WR-CALDESC:Eventi per Modena Baseball Softball Club
REFRESH-INTERVAL;VALUE=DURATION:PT1H
X-Robots-Tag:noindex
X-PUBLISHED-TTL:PT1H
BEGIN:VTIMEZONE
TZID:UTC
BEGIN:STANDARD
TZOFFSETFROM:+0000
TZOFFSETTO:+0000
TZNAME:UTC
DTSTART:20250101T000000
END:STANDARD
END:VTIMEZONE
BEGIN:VEVENT
DTSTART;VALUE=DATE:20260712
DTEND;VALUE=DATE:20260713
DTSTAMP:20260422T053613
CREATED:20260129T111951Z
LAST-MODIFIED:20260325T135834Z
UID:252713-1783814400-1783900799@www.modenabaseball.it
SUMMARY:CABS SEVESO vs MODENA
DESCRIPTION:DOMENICA 12 LUGLIO 2026: Prima partita inizio ore 11:00 – Seconda partita inizio ore 15:00 –STADIO G. PISTOCCHINI – Via delle Quercie\, 5 – Seveso (MB) \nRegular season – Serie A (Girone A – SILVER) – Campionato nazionale Baseball 2026 –Ogni squadra disputa un calendario di incontri andata e ritorno all’interno del proprio girone. \nLe date precise delle giornate e gli incroci tra squadre sono definiti dalla FIBS e disponibili nella sezione calendario del campionato\, con partite programmate prevalentemente nei weekend. \n   
URL:https://www.modenabaseball.it/event/cabs-seveso-vs-modena/
LOCATION:Stadio G. Pistocchini\, Via delle Querce\, 5\, Seveso\, MB\, 20822\, Italy
CATEGORIES:Serie A
ATTACH;FMTTYPE=image/jpeg:https://www.modenabaseball.it/wp-content/uploads/2026/01/CS-vs-MO_serie-A_FIBS.jpg
END:VEVENT
BEGIN:VEVENT
DTSTART;VALUE=DATE:20260718
DTEND;VALUE=DATE:20260719
DTSTAMP:20260422T053613
CREATED:20260129T130722Z
LAST-MODIFIED:20260325T134929Z
UID:252735-1784332800-1784419199@www.modenabaseball.it
SUMMARY:MODENA vs SETTIMO TO.
DESCRIPTION:SABATO 18 LUGLIO 2026: Prima partita inizio ore 15:00 – Seconda partita inizio ore 20:00 –STADIO COMUNALE TORRI – Via Minutara\, 24 – Modena (MO)  \nRegular season – Serie A (Girone A – SILVER) – Campionato nazionale Baseball 2026 –Ogni squadra disputa un calendario di incontri andata e ritorno all’interno del proprio girone. \nLe date precise delle giornate e gli incroci tra squadre sono definiti dalla FIBS e disponibili nella sezione calendario del campionato\, con partite programmate prevalentemente nei weekend. \n  
URL:https://www.modenabaseball.it/event/modena-vs-settimo-to/
LOCATION:Stadio Comunale G. Torri\, Via Minutara\, 24\, Modena\, MO\, 41122\, Italy
CATEGORIES:Serie A
ATTACH;FMTTYPE=image/jpeg:https://www.modenabaseball.it/wp-content/uploads/2026/01/MO-vs-ST_serie-A-1.jpg
END:VEVENT
BEGIN:VEVENT
DTSTART;VALUE=DATE:20260726
DTEND;VALUE=DATE:20260727
DTSTAMP:20260422T053613
CREATED:20260129T134841Z
LAST-MODIFIED:20260325T133541Z
UID:252777-1785024000-1785110399@www.modenabaseball.it
SUMMARY:AVIGLIANA vs MODENA
DESCRIPTION:SABATO 26 LUGLIO 2026: Prima partita inizio ore 11:00 – Seconda partita inizio ore 15:00 –STADIO AVEGLIANA – Via Giovanni Suppo\, 10\, Avigliana (TO) \nRegular season – Serie A (Girone A – SILVER) – Campionato nazionale Baseball 2026 –Ogni squadra disputa un calendario di incontri andata e ritorno all’interno del proprio girone. \nLe date precise delle giornate e gli incroci tra squadre sono definiti dalla FIBS e disponibili nella sezione calendario del campionato\, con partite programmate prevalentemente nei weekend. \n   
URL:https://www.modenabaseball.it/event/avigliana-vs-modena/
LOCATION:Campo Avigliana\, Via Giovanni Suppo\, 10\, Avigliana\, TO\, 10051\, Italy
CATEGORIES:Serie A
ATTACH;FMTTYPE=image/jpeg:https://www.modenabaseball.it/wp-content/uploads/2026/01/AV-vs-MO_serie-A-1.jpg
END:VEVENT
BEGIN:VEVENT
DTSTART;VALUE=DATE:20260801
DTEND;VALUE=DATE:20260802
DTSTAMP:20260422T053613
CREATED:20260129T133314Z
LAST-MODIFIED:20260325T135042Z
UID:252753-1785542400-1785628799@www.modenabaseball.it
SUMMARY:MODENA vs SENAGO
DESCRIPTION:SABATO 01 AGOSTO 2026: Prima partita inizio ore 15:00 – Seconda partita inizio ore 20:00 –STADIO COMUNALE TORRI – Via Minutara\, 24 – Modena (MO) \nRegular season – Serie A (Girone A – SILVER) – Campionato nazionale Baseball 2026 –Ogni squadra disputa un calendario di incontri andata e ritorno all’interno del proprio girone. \nLe date precise delle giornate e gli incroci tra squadre sono definiti dalla FIBS e disponibili nella sezione calendario del campionato\, con partite programmate prevalentemente nei weekend. \n   
URL:https://www.modenabaseball.it/event/modena-vs-senago/
LOCATION:Stadio Comunale G. Torri\, Via Minutara\, 24\, Modena\, MO\, 41122\, Italy
CATEGORIES:Serie A
ATTACH;FMTTYPE=image/jpeg:https://www.modenabaseball.it/wp-content/uploads/2026/01/MO-vs-SE_serie-A-1.jpg
END:VEVENT
BEGIN:VEVENT
DTSTART;VALUE=DATE:20260809
DTEND;VALUE=DATE:20260810
DTSTAMP:20260422T053613
CREATED:20260129T151446Z
LAST-MODIFIED:20260325T135134Z
UID:252797-1786233600-1786319999@www.modenabaseball.it
SUMMARY:POVIGLIO vs MODENA
DESCRIPTION:DOMENICA 09 AGOSTO 2026: Prima partita inizio ore 11:00 – Seconda partita inizio ore 15:00 –STADIO POVIGLIO – Via Gruara\, 81/1 – Poviglio (RE) \nRegular season – Serie A (Girone A – SILVER) – Campionato nazionale Baseball 2026 –Ogni squadra disputa un calendario di incontri andata e ritorno all’interno del proprio girone. \nLe date precise delle giornate e gli incroci tra squadre sono definiti dalla FIBS e disponibili nella sezione calendario del campionato\, con partite programmate prevalentemente nei weekend. \n   
URL:https://www.modenabaseball.it/event/poviglio-vs-modena/
LOCATION:Stadio Poviglio\, Via Gruara\, 81/1\, Poviglio\, RE\, 42028\, Italy
CATEGORIES:Serie A
ATTACH;FMTTYPE=image/jpeg:https://www.modenabaseball.it/wp-content/uploads/2026/01/PO-vs-MO_serie-A-1.jpg
END:VEVENT
BEGIN:VEVENT
DTSTART;VALUE=DATE:20260829
DTEND;VALUE=DATE:20260830
DTSTAMP:20260422T053613
CREATED:20260129T155804Z
LAST-MODIFIED:20260325T134134Z
UID:252812-1787961600-1788047999@www.modenabaseball.it
SUMMARY:MODENA vs CAGLIARI
DESCRIPTION:SABATO 29 AGOSTO 2026: Prima partita inizio ore 15:00 – Seconda partita inizio ore 20:00 -STADIO COMUNALE TORRI – Via Minutara\, 24 – Modena (MO) \nRegular season – Serie A (Girone A – SILVER) – Campionato nazionale Baseball 2026 –Ogni squadra disputa un calendario di incontri andata e ritorno all’interno del proprio girone. \nLe date precise delle giornate e gli incroci tra squadre sono definiti dalla FIBS e disponibili nella sezione calendario del campionato\, con partite programmate prevalentemente nei weekend. \n     
URL:https://www.modenabaseball.it/event/modena-vs-cagliari/
LOCATION:Stadio Codogno\, Viale Resistenza\, 10\, Codogno\, LO\, 26845\, Italy
CATEGORIES:Serie A
ATTACH;FMTTYPE=image/jpeg:https://www.modenabaseball.it/wp-content/uploads/2026/01/MO-vs-CA_serie-A-1.jpg
END:VEVENT
BEGIN:VEVENT
DTSTART;VALUE=DATE:20260905
DTEND;VALUE=DATE:20260906
DTSTAMP:20260422T053613
CREATED:20260129T163456Z
LAST-MODIFIED:20260325T134228Z
UID:252828-1788566400-1788652799@www.modenabaseball.it
SUMMARY:MODENA vs CODOGNO
DESCRIPTION:SABATO 05 SETTEMBRE 2026: Prima partita inizio ore 15:00 – Seconda partita inizio ore 20:00 –STADIO COMUNALE TORRI – Via Minutara\, 24 – Modena (MO) \nRegular season – Serie A (Girone A – SILVER) – Campionato nazionale Baseball 2026 –Ogni squadra disputa un calendario di incontri andata e ritorno all’interno del proprio girone. \nLe date precise delle giornate e gli incroci tra squadre sono definiti dalla FIBS e disponibili nella sezione calendario del campionato\, con partite programmate prevalentemente nei weekend. \n   
URL:https://www.modenabaseball.it/event/modena-vs-codogno/
LOCATION:Stadio Comunale G. Torri\, Via Minutara\, 24\, Modena\, MO\, 41122\, Italy
CATEGORIES:Serie A
ATTACH;FMTTYPE=image/jpeg:https://www.modenabaseball.it/wp-content/uploads/2026/01/MO-vs-CO_serie-A-1.jpg
END:VEVENT
BEGIN:VEVENT
DTSTART;VALUE=DATE:20260912
DTEND;VALUE=DATE:20260913
DTSTAMP:20260422T053613
CREATED:20260130T082153Z
LAST-MODIFIED:20260325T134323Z
UID:252835-1789171200-1789257599@www.modenabaseball.it
SUMMARY:MODENA vs MILANO
DESCRIPTION:SABATO 12 SETTEMBRE 2026: Prima partita inizio ore 15:00 – Seconda partita inizio ore 20:00 –STADIO COMUNALE TORRI – Via Minutara\, 24 – Modena (MO) \nRegular season – Serie A (Girone A – SILVER) – Campionato nazionale Baseball 2026 –Ogni squadra disputa un calendario di incontri andata e ritorno all’interno del proprio girone. \nLe date precise delle giornate e gli incroci tra squadre sono definiti dalla FIBS e disponibili nella sezione calendario del campionato\, con partite programmate prevalentemente nei weekend. \n      
URL:https://www.modenabaseball.it/event/modena-vs-milano/
LOCATION:Stadio Comunale G. Torri\, Via Minutara\, 24\, Modena\, MO\, 41122\, Italy
CATEGORIES:Serie A
ATTACH;FMTTYPE=image/jpeg:https://www.modenabaseball.it/wp-content/uploads/2026/01/MO-vs-MI_serie-A-1.jpg
END:VEVENT
BEGIN:VEVENT
DTSTART;VALUE=DATE:20260919
DTEND;VALUE=DATE:20260920
DTSTAMP:20260422T053613
CREATED:20260223T140954Z
LAST-MODIFIED:20260325T142242Z
UID:253125-1789776000-1789862399@www.modenabaseball.it
SUMMARY:MODENA vs OLTRETORRENTE PARMA
DESCRIPTION:SABATO 19 SETTEMBRE 2026: Prima partita inizio ore 15:00 – Seconda partita inizio ore 20:00 –STADIO COMUNALE TORRI – Via Minutara\, 24 – Modena (MO) \nRegular season – Serie A (Girone A – SILVER) – Campionato nazionale Baseball 2026 –Ogni squadra disputa un calendario di incontri andata e ritorno all’interno del proprio girone. \nLe date precise delle giornate e gli incroci tra squadre sono definiti dalla FIBS e disponibili nella sezione calendario del campionato\, con partite programmate prevalentemente nei weekend. \n      
URL:https://www.modenabaseball.it/event/modena-vs-oltretorrente-parma/
LOCATION:Stadio Comunale G. Torri\, Via Minutara\, 24\, Modena\, MO\, 41122\, Italy
CATEGORIES:Serie A
ATTACH;FMTTYPE=image/jpeg:https://www.modenabaseball.it/wp-content/uploads/2026/02/MO-vs-OLT_serie-A-1.jpg
END:VEVENT
END:VCALENDAR